BEGIN:VCALENDAR
VERSION:2.0
PRODID:-//Greenbox Loans, Inc. - ECPv6.15.18//NONSGML v1.0//EN
CALSCALE:GREGORIAN
METHOD:PUBLISH
X-ORIGINAL-URL:https://greenboxloans.com
X-WR-CALDESC:Events for Greenbox Loans, Inc.
REFRESH-INTERVAL;VALUE=DURATION:PT1H
X-Robots-Tag:noindex
X-PUBLISHED-TTL:PT1H
BEGIN:VTIMEZONE
TZID:America/Los_Angeles
BEGIN:DAYLIGHT
TZOFFSETFROM:-0800
TZOFFSETTO:-0700
TZNAME:PDT
DTSTART:20250309T100000
END:DAYLIGHT
BEGIN:STANDARD
TZOFFSETFROM:-0700
TZOFFSETTO:-0800
TZNAME:PST
DTSTART:20251102T090000
END:STANDARD
BEGIN:DAYLIGHT
TZOFFSETFROM:-0800
TZOFFSETTO:-0700
TZNAME:PDT
DTSTART:20260308T100000
END:DAYLIGHT
BEGIN:STANDARD
TZOFFSETFROM:-0700
TZOFFSETTO:-0800
TZNAME:PST
DTSTART:20261101T090000
END:STANDARD
BEGIN:DAYLIGHT
TZOFFSETFROM:-0800
TZOFFSETTO:-0700
TZNAME:PDT
DTSTART:20270314T100000
END:DAYLIGHT
BEGIN:STANDARD
TZOFFSETFROM:-0700
TZOFFSETTO:-0800
TZNAME:PST
DTSTART:20271107T090000
END:STANDARD
END:VTIMEZONE
BEGIN:VEVENT
DTSTART;VALUE=DATE:20260507
DTEND;VALUE=DATE:20260508
DTSTAMP:20260422T023848
CREATED:20251028T224710Z
LAST-MODIFIED:20251028T224710Z
UID:3338-1778112000-1778198399@greenboxloans.com
SUMMARY:CA Mortgage Expo | LA South
DESCRIPTION:Greenbox Loans\, Inc. will be attending the California Mortgage Expo – Irvine on May 7\, 2026\, at the Hilton Irvine/Orange County Airport in Irvine\, CA. This major event brings together mortgage originators\, brokers\, and industry professionals for a day filled with education\, networking\, and insight into the latest mortgage trends. Stop by and meet the Greenbox team to learn how our flexible Non-QM lending solutions can help grow your business.
URL:https://greenboxloans.com/event/ca-mortgage-expo-la-south-2/
CATEGORIES:Expo
END:VEVENT
END:VCALENDAR